BEGIN:VCALENDAR
VERSION:2.0
PRODID:-//Asteraé - ECPv5.7.0//NONSGML v1.0//EN
CALSCALE:GREGORIAN
METHOD:PUBLISH
X-WR-CALNAME:Asteraé
X-ORIGINAL-URL:http://asterae.org
X-WR-CALDESC:évènements pour Asteraé
BEGIN:VTIMEZONE
TZID:Europe/Paris
BEGIN:DAYLIGHT
TZOFFSETFROM:+0100
TZOFFSETTO:+0200
TZNAME:CEST
DTSTART:20210328T010000
END:DAYLIGHT
BEGIN:STANDARD
TZOFFSETFROM:+0200
TZOFFSETTO:+0100
TZNAME:CET
DTSTART:20211031T010000
END:STANDARD
END:VTIMEZONE
BEGIN:VEVENT
DTSTART;VALUE=DATE:20211121
DTEND;VALUE=DATE:20211122
DTSTAMP:20211005T125609
CREATED:20210615T154734Z
LAST-MODIFIED:20210616T192735Z
UID:4315-1637452800-1637539199@asterae.org
SUMMARY:Festival ESS'AYEZ 66\, à Argelès-sur-Mer
DESCRIPTION:Conférence lors du festival de l’Economie Sociale et Solidaire (ESS) des Pyrénées-Orientales (66).
URL:http://asterae.org/evenement/festival-essayez-66/
LOCATION:Chateau de Valmy\, Chemin du Chateau de Valmy\, Argelès-sur-Mer\, 66700\, France
CATEGORIES:Conférence
END:VEVENT
END:VCALENDAR