BEGIN:VCALENDAR
VERSION:2.0
PRODID:-//Asteraé - ECPv6.15.13//NONSGML v1.0//EN
CALSCALE:GREGORIAN
METHOD:PUBLISH
X-ORIGINAL-URL:https://asterae.org
X-WR-CALDESC:Évènements pour Asteraé
REFRESH-INTERVAL;VALUE=DURATION:PT1H
X-Robots-Tag:noindex
X-PUBLISHED-TTL:PT1H
BEGIN:VTIMEZONE
TZID:Europe/Paris
BEGIN:DAYLIGHT
TZOFFSETFROM:+0100
TZOFFSETTO:+0200
TZNAME:CEST
DTSTART:20220327T010000
END:DAYLIGHT
BEGIN:STANDARD
TZOFFSETFROM:+0200
TZOFFSETTO:+0100
TZNAME:CET
DTSTART:20221030T010000
END:STANDARD
BEGIN:DAYLIGHT
TZOFFSETFROM:+0100
TZOFFSETTO:+0200
TZNAME:CEST
DTSTART:20230326T010000
END:DAYLIGHT
BEGIN:STANDARD
TZOFFSETFROM:+0200
TZOFFSETTO:+0100
TZNAME:CET
DTSTART:20231029T010000
END:STANDARD
BEGIN:DAYLIGHT
TZOFFSETFROM:+0100
TZOFFSETTO:+0200
TZNAME:CEST
DTSTART:20240331T010000
END:DAYLIGHT
BEGIN:STANDARD
TZOFFSETFROM:+0200
TZOFFSETTO:+0100
TZNAME:CET
DTSTART:20241027T010000
END:STANDARD
END:VTIMEZONE
BEGIN:VEVENT
DTSTART;TZID=Europe/Paris:20230304T143000
DTEND;TZID=Europe/Paris:20230304T173000
DTSTAMP:20260425T125419
CREATED:20240317T122910Z
LAST-MODIFIED:20240317T122910Z
UID:6506-1677940200-1677951000@asterae.org
SUMMARY:Fresque de la biodiversité
DESCRIPTION:J’organise une fresque de la biodiversité aux jardins familiaux de Canet en Roussillon ce samedi 4/03 de 14h30 à 17h30.\nVoici une vidéo présentant la fresque.
URL:https://asterae.org/evenement/fresque-de-la-biodiversite/
LOCATION:Jardins Familiaux de Canet en Roussillon\, Chemin du Stade\, Canet en Roussillon\, 66140
ATTACH;FMTTYPE=image/jpeg:https://asterae.org/wp-content/uploads/Fresque-de-la-Biodiversite-Logo.jpg
END:VEVENT
END:VCALENDAR