BEGIN:VCALENDAR
VERSION:2.0
PRODID:-//Asteraé - ECPv6.15.13//NONSGML v1.0//EN
CALSCALE:GREGORIAN
METHOD:PUBLISH
X-WR-CALNAME:Asteraé
X-ORIGINAL-URL:https://asterae.org
X-WR-CALDESC:Évènements pour Asteraé
REFRESH-INTERVAL;VALUE=DURATION:PT1H
X-Robots-Tag:noindex
X-PUBLISHED-TTL:PT1H
BEGIN:VTIMEZONE
TZID:Europe/Paris
BEGIN:DAYLIGHT
TZOFFSETFROM:+0100
TZOFFSETTO:+0200
TZNAME:CEST
DTSTART:20230326T010000
END:DAYLIGHT
BEGIN:STANDARD
TZOFFSETFROM:+0200
TZOFFSETTO:+0100
TZNAME:CET
DTSTART:20231029T010000
END:STANDARD
BEGIN:DAYLIGHT
TZOFFSETFROM:+0100
TZOFFSETTO:+0200
TZNAME:CEST
DTSTART:20240331T010000
END:DAYLIGHT
BEGIN:STANDARD
TZOFFSETFROM:+0200
TZOFFSETTO:+0100
TZNAME:CET
DTSTART:20241027T010000
END:STANDARD
BEGIN:DAYLIGHT
TZOFFSETFROM:+0100
TZOFFSETTO:+0200
TZNAME:CEST
DTSTART:20250330T010000
END:DAYLIGHT
BEGIN:STANDARD
TZOFFSETFROM:+0200
TZOFFSETTO:+0100
TZNAME:CET
DTSTART:20251026T010000
END:STANDARD
END:VTIMEZONE
BEGIN:VEVENT
DTSTART;TZID=Europe/Paris:20240518T093000
DTEND;TZID=Europe/Paris:20240629T113000
DTSTAMP:20260424T105501
CREATED:20231001T162017Z
LAST-MODIFIED:20240403T163134Z
UID:6204-1716024600-1719660600@asterae.org
SUMMARY:Animations au jardin pour les enfants\, à Axat
DESCRIPTION:Rendez-vous dans notre jardin à Axat les samedis de 10h à 12h\, du 18 mai au 29 juin 2024.  \n\n\n\nPlaces limitées à 6 enfants\, âgés de 6 à 12 ans. \nTarif par enfant : 20€ par cours de 2h (tarif dégressif). \nLes cours permettront aux enfants de : \n\n\n\n\n\n\nConnaître et comprendre la nature\n \n\n\n\nComprendre le cycle végétal au fil des saisons\nConnaître les clés de fertilité (eau\, sol\, soleil\, …)\nDécouvrir les amis au jardin (hérissons\, plantes compagnes\, insectes : abeilles\, coccinelles\, vers de terre\, …)\n\n\n\nSe reconnecter à la nature en jardinant \n\n\n\nAcquérir les gestes pour semer des graines et pour planter (plantes nourricières\, médicinales\, tinctoriales\,  …)\nSavoir cueillir des fleurs\, des fruits et des légumes\nSavoir cuisiner les récoltes de saison\n\n\n\nLes cours reposent sur l’idée qu’un enfant qui connaît\, comprend et relationne avec la nature saura en prendre soin. \nDe plus\, la pédagogie par et avec la nature a de multiples bienfaits développés dans l’article suivant.
URL:https://asterae.org/evenement/cours-de-jardinage-enfants-printemps-2024/
LOCATION:Axat\, Axat\, 11140\, France
ATTACH;FMTTYPE=image/jpeg:https://asterae.org/wp-content/uploads/IMG-1659-scaled.jpg
ORGANIZER;CN="Astera%C3%A9":MAILTO:sandrine.garcia@asterae.org
END:VEVENT
END:VCALENDAR