BEGIN:VCALENDAR
VERSION:2.0
PRODID:-//Asteraé - ECPv6.15.13//NONSGML v1.0//EN
CALSCALE:GREGORIAN
METHOD:PUBLISH
X-WR-CALNAME:Asteraé
X-ORIGINAL-URL:https://asterae.org
X-WR-CALDESC:Évènements pour Asteraé
REFRESH-INTERVAL;VALUE=DURATION:PT1H
X-Robots-Tag:noindex
X-PUBLISHED-TTL:PT1H
BEGIN:VTIMEZONE
TZID:Europe/Paris
BEGIN:DAYLIGHT
TZOFFSETFROM:+0100
TZOFFSETTO:+0200
TZNAME:CEST
DTSTART:20230326T010000
END:DAYLIGHT
BEGIN:STANDARD
TZOFFSETFROM:+0200
TZOFFSETTO:+0100
TZNAME:CET
DTSTART:20231029T010000
END:STANDARD
BEGIN:DAYLIGHT
TZOFFSETFROM:+0100
TZOFFSETTO:+0200
TZNAME:CEST
DTSTART:20240331T010000
END:DAYLIGHT
BEGIN:STANDARD
TZOFFSETFROM:+0200
TZOFFSETTO:+0100
TZNAME:CET
DTSTART:20241027T010000
END:STANDARD
BEGIN:DAYLIGHT
TZOFFSETFROM:+0100
TZOFFSETTO:+0200
TZNAME:CEST
DTSTART:20250330T010000
END:DAYLIGHT
BEGIN:STANDARD
TZOFFSETFROM:+0200
TZOFFSETTO:+0100
TZNAME:CET
DTSTART:20251026T010000
END:STANDARD
END:VTIMEZONE
BEGIN:VEVENT
DTSTART;TZID=Europe/Paris:20240817T200000
DTEND;TZID=Europe/Paris:20240817T230000
DTSTAMP:20260424T072113
CREATED:20240628T141340Z
LAST-MODIFIED:20240812T074810Z
UID:6708-1723924800-1723935600@asterae.org
SUMMARY:Animation "Les gardiennes de la nuit"\, à Axat
DESCRIPTION:Disponible le samedi 17 août pour une animation en soirée à Axat dans le cadre de la nuit internationale de la chauve-souris ? \nElle sera réalisée par Axel Coudray\, en stage dans ma structure dans le cadre de son BTS « Gestion et Protection de la Nature »\, et en partenariat avec l’association Natura Pirenèus ! \nAu programme : \n« Tout d’abord\, vous jouerez à un quiz qui vous permettra de découvrir les chauves-souris et quelques-uns de leurs secrets. \nEnsuite\, nous écouterons nos amies nocturnes au cœur du village à l’aide de matériels capables de capter les ultrasons qu’elles émettent. \nEnfin\, l’animation se terminera par un petit test pour valider vos connaissances ! » \nInscription obligatoire par mail à coudrayaxel0@gmail.com ou par téléphone au 06 09 04 94 69. \n#engagement #environnement #nature #biodiversité #chauvesouris
URL:https://asterae.org/evenement/animation-gardiennes-de-la-nuit-axat/
LOCATION:Axat\, Axat\, 11140\, France
CATEGORIES:Animation
ATTACH;FMTTYPE=image/png:https://asterae.org/wp-content/uploads/NuitDeLaChauveSouris.png
ORGANIZER;CN="Astera%C3%A9":MAILTO:sandrine.garcia@asterae.org
END:VEVENT
END:VCALENDAR