BEGIN:VCALENDAR
VERSION:2.0
PRODID:-//Asteraé - ECPv6.15.13//NONSGML v1.0//EN
CALSCALE:GREGORIAN
METHOD:PUBLISH
X-ORIGINAL-URL:https://asterae.org
X-WR-CALDESC:Évènements pour Asteraé
REFRESH-INTERVAL;VALUE=DURATION:PT1H
X-Robots-Tag:noindex
X-PUBLISHED-TTL:PT1H
BEGIN:VTIMEZONE
TZID:Europe/Paris
BEGIN:DAYLIGHT
TZOFFSETFROM:+0100
TZOFFSETTO:+0200
TZNAME:CEST
DTSTART:20230326T010000
END:DAYLIGHT
BEGIN:STANDARD
TZOFFSETFROM:+0200
TZOFFSETTO:+0100
TZNAME:CET
DTSTART:20231029T010000
END:STANDARD
BEGIN:DAYLIGHT
TZOFFSETFROM:+0100
TZOFFSETTO:+0200
TZNAME:CEST
DTSTART:20240331T010000
END:DAYLIGHT
BEGIN:STANDARD
TZOFFSETFROM:+0200
TZOFFSETTO:+0100
TZNAME:CET
DTSTART:20241027T010000
END:STANDARD
BEGIN:DAYLIGHT
TZOFFSETFROM:+0100
TZOFFSETTO:+0200
TZNAME:CEST
DTSTART:20250330T010000
END:DAYLIGHT
BEGIN:STANDARD
TZOFFSETFROM:+0200
TZOFFSETTO:+0100
TZNAME:CET
DTSTART:20251026T010000
END:STANDARD
END:VTIMEZONE
BEGIN:VEVENT
DTSTART;TZID=Europe/Paris:20240921T100000
DTEND;TZID=Europe/Paris:20240922T170000
DTSTAMP:20260424T054557
CREATED:20240701T075519Z
LAST-MODIFIED:20240918T134251Z
UID:6719-1726912800-1727024400@asterae.org
SUMMARY:Animation lors de la Fête de l'Éducation à l'Environnement 2024\, à Bolquère
DESCRIPTION:Comme chaque année\, la Tram’66\, réseau d’acteurs Environnement des Pyrénées-Orientales\, organise la Fête de l’Éducation à l’Environnement. Cette année\, elle aura lieu à Bolquère et j’y animerai un atelier sur la thématique du Jardin. \nRetrouvez le programme complet ici !
URL:https://asterae.org/evenement/animation-lors-de-la-fete-de-leducation-a-lenvironnement-2024-a-bolquere/
LOCATION:Bolquère
CATEGORIES:Atelier
ATTACH;FMTTYPE=image/jpeg:https://asterae.org/wp-content/uploads/BandeauFEE2024.jpg
END:VEVENT
END:VCALENDAR