BEGIN:VCALENDAR
VERSION:2.0
PRODID:-//Asteraé - ECPv6.15.13//NONSGML v1.0//EN
CALSCALE:GREGORIAN
METHOD:PUBLISH
X-ORIGINAL-URL:https://asterae.org
X-WR-CALDESC:Évènements pour Asteraé
REFRESH-INTERVAL;VALUE=DURATION:PT1H
X-Robots-Tag:noindex
X-PUBLISHED-TTL:PT1H
BEGIN:VTIMEZONE
TZID:Europe/Paris
BEGIN:DAYLIGHT
TZOFFSETFROM:+0100
TZOFFSETTO:+0200
TZNAME:CEST
DTSTART:20240331T010000
END:DAYLIGHT
BEGIN:STANDARD
TZOFFSETFROM:+0200
TZOFFSETTO:+0100
TZNAME:CET
DTSTART:20241027T010000
END:STANDARD
BEGIN:DAYLIGHT
TZOFFSETFROM:+0100
TZOFFSETTO:+0200
TZNAME:CEST
DTSTART:20250330T010000
END:DAYLIGHT
BEGIN:STANDARD
TZOFFSETFROM:+0200
TZOFFSETTO:+0100
TZNAME:CET
DTSTART:20251026T010000
END:STANDARD
BEGIN:DAYLIGHT
TZOFFSETFROM:+0100
TZOFFSETTO:+0200
TZNAME:CEST
DTSTART:20260329T010000
END:DAYLIGHT
BEGIN:STANDARD
TZOFFSETFROM:+0200
TZOFFSETTO:+0100
TZNAME:CET
DTSTART:20261025T010000
END:STANDARD
END:VTIMEZONE
BEGIN:VEVENT
DTSTART;TZID=Europe/Paris:20250116T090000
DTEND;TZID=Europe/Paris:20250117T170000
DTSTAMP:20260424T072635
CREATED:20231001T170809Z
LAST-MODIFIED:20241119T113139Z
UID:6217-1737018000-1737133200@asterae.org
SUMMARY:Formation sur la Responsabilité Sociétale des Entreprises et Organisations\, à Perpignan
DESCRIPTION:Rendez-vous à Perpignan pour une formation de 2 jours sur la Responsabilité Sociétale des Entreprises et Organisations. \nNous aborderons les 7 questions centrales de la norme ISO26000\, et ceci en alternant théorie et pratique. \n\nDroits de l’homme\nBien-être au travail des collaborateurs\nEnvironnement\nRelations avec les fournisseurs\nRelations avec les clients\nDéveloppement local et territoire\nGouvernance responsable\n\n 
URL:https://asterae.org/evenement/formation-rse-2024-perpignan/
LOCATION:Privé : Perspectives\, TECNOSUD 1\, 230 Rue James Watt Bât. B\, Perpignan\, 66100\, France
CATEGORIES:Formation
ATTACH;FMTTYPE=image/png:https://asterae.org/wp-content/uploads/ISO26000.png
ORGANIZER;CN="Astera%C3%A9":MAILTO:sandrine.garcia@asterae.org
END:VEVENT
END:VCALENDAR