BEGIN:VCALENDAR
VERSION:2.0
PRODID:-//Asteraé - ECPv6.15.13//NONSGML v1.0//EN
CALSCALE:GREGORIAN
METHOD:PUBLISH
X-WR-CALNAME:Asteraé
X-ORIGINAL-URL:https://asterae.org
X-WR-CALDESC:Évènements pour Asteraé
REFRESH-INTERVAL;VALUE=DURATION:PT1H
X-Robots-Tag:noindex
X-PUBLISHED-TTL:PT1H
BEGIN:VTIMEZONE
TZID:Europe/Paris
BEGIN:DAYLIGHT
TZOFFSETFROM:+0100
TZOFFSETTO:+0200
TZNAME:CEST
DTSTART:20240331T010000
END:DAYLIGHT
BEGIN:STANDARD
TZOFFSETFROM:+0200
TZOFFSETTO:+0100
TZNAME:CET
DTSTART:20241027T010000
END:STANDARD
BEGIN:DAYLIGHT
TZOFFSETFROM:+0100
TZOFFSETTO:+0200
TZNAME:CEST
DTSTART:20250330T010000
END:DAYLIGHT
BEGIN:STANDARD
TZOFFSETFROM:+0200
TZOFFSETTO:+0100
TZNAME:CET
DTSTART:20251026T010000
END:STANDARD
BEGIN:DAYLIGHT
TZOFFSETFROM:+0100
TZOFFSETTO:+0200
TZNAME:CEST
DTSTART:20260329T010000
END:DAYLIGHT
BEGIN:STANDARD
TZOFFSETFROM:+0200
TZOFFSETTO:+0100
TZNAME:CET
DTSTART:20261025T010000
END:STANDARD
END:VTIMEZONE
BEGIN:VEVENT
DTSTART;TZID=Europe/Paris:20250313T090000
DTEND;TZID=Europe/Paris:20250314T173000
DTSTAMP:20260424T122109
CREATED:20231001T171503Z
LAST-MODIFIED:20241216T043527Z
UID:6224-1741856400-1741973400@asterae.org
SUMMARY:Formation sur la mise en place d'une démarche environnementale\, à Limoux
DESCRIPTION:Rendez-vous à Limoux pour une formation de 2 jours sur la mise en place d’une démarche environnementale dans sa structure. \nNous aborderons les différents aspects de la norme ISO14001\, et ceci en alternant théorie et pratique. \n\nContexte : identification de ses parties prenantes et de ses impacts environnementaux\nLeaderShip : intégration à la stratégie portée par la Direction\nPlan : définition des objectifs\nDo : mise en actions\nCheck : mesure de sa performance\nAct : amélioration continue\n\n 
URL:https://asterae.org/evenement/formation-environnementale-2024-limoux/
LOCATION:Limoux\, Limoux\, France
ATTACH;FMTTYPE=image/png:https://asterae.org/wp-content/uploads/ISO14001.png
ORGANIZER;CN="Astera%C3%A9":MAILTO:sandrine.garcia@asterae.org
END:VEVENT
END:VCALENDAR