BEGIN:VCALENDAR
VERSION:2.0
PRODID:-//Asteraé - ECPv6.15.13//NONSGML v1.0//EN
CALSCALE:GREGORIAN
METHOD:PUBLISH
X-WR-CALNAME:Asteraé
X-ORIGINAL-URL:https://asterae.org
X-WR-CALDESC:Évènements pour Asteraé
REFRESH-INTERVAL;VALUE=DURATION:PT1H
X-Robots-Tag:noindex
X-PUBLISHED-TTL:PT1H
BEGIN:VTIMEZONE
TZID:Europe/Paris
BEGIN:DAYLIGHT
TZOFFSETFROM:+0100
TZOFFSETTO:+0200
TZNAME:CEST
DTSTART:20250330T010000
END:DAYLIGHT
BEGIN:STANDARD
TZOFFSETFROM:+0200
TZOFFSETTO:+0100
TZNAME:CET
DTSTART:20251026T010000
END:STANDARD
BEGIN:DAYLIGHT
TZOFFSETFROM:+0100
TZOFFSETTO:+0200
TZNAME:CEST
DTSTART:20260329T010000
END:DAYLIGHT
BEGIN:STANDARD
TZOFFSETFROM:+0200
TZOFFSETTO:+0100
TZNAME:CET
DTSTART:20261025T010000
END:STANDARD
BEGIN:DAYLIGHT
TZOFFSETFROM:+0100
TZOFFSETTO:+0200
TZNAME:CEST
DTSTART:20270328T010000
END:DAYLIGHT
BEGIN:STANDARD
TZOFFSETFROM:+0200
TZOFFSETTO:+0100
TZNAME:CET
DTSTART:20271031T010000
END:STANDARD
END:VTIMEZONE
BEGIN:VEVENT
DTSTART;TZID=Europe/Paris:20261017T133000
DTEND;TZID=Europe/Paris:20261017T173000
DTSTAMP:20260425T180310
CREATED:20251220T162055Z
LAST-MODIFIED:20260122T153011Z
UID:8083-1792243800-1792258200@asterae.org
SUMMARY:Découverte d’une production d’huile d’olive labellisée AB\, à Estagel
DESCRIPTION:Partons à la découverte d’oliviers de plus de 400 ans\, de la labellisation « Agriculture Biologique » et du métier d’oléiculteur avec une démonstration de l’utilisation d’un moulin à huile. \nNous commencerons par une balade au milieu des oliviers avec la découverte d’arbres remarquables de plus de 400 ans. Nous vous apporterons des éléments de compréhension sur la labellisation « Agriculture Biologique » (AB) : les critères\, les enjeux environnementaux auxquels elle répond et les différences avec les autres labellisations existantes\, dans d’autres pays notamment (ex. : « Nature et Progrès » en France\, « AB » en Espagne). Puis nous visiterons le moulin à huile d’olive de Vincent\, oléiculteur\, qui nous expliquera son métier\, les différentes étapes de production accompagnée d’une démonstration\, et les actions mises en œuvre pour obtenir la labellisation AB. Nous finirons par une dégustation de ses délicieux produits. \nMerci au Parc Naturel Régional Corbières-Fenouillèdes pour son soutien financier et la mise en œuvre de son programme « Parc-ci\, parc-là ! ». \nRÉSERVATION par sms au 06.45.92.38.10 !
URL:https://asterae.org/evenement/decouverte-production-huile-olive-labellisee-ab-estagel/
LOCATION:Moulin à huile d’olive Galéa\, Route de Maury\, 66310 Estagel\, France
CATEGORIES:Animation
ATTACH;FMTTYPE=image/jpeg:https://asterae.org/wp-content/uploads/olivo-3728377_1280.jpg
END:VEVENT
END:VCALENDAR