BEGIN:VCALENDAR
VERSION:2.0
PRODID:-//Asteraé - ECPv6.15.13//NONSGML v1.0//EN
CALSCALE:GREGORIAN
METHOD:PUBLISH
X-WR-CALNAME:Asteraé
X-ORIGINAL-URL:https://asterae.org
X-WR-CALDESC:Évènements pour Asteraé
REFRESH-INTERVAL;VALUE=DURATION:PT1H
X-Robots-Tag:noindex
X-PUBLISHED-TTL:PT1H
BEGIN:VTIMEZONE
TZID:Europe/Paris
BEGIN:DAYLIGHT
TZOFFSETFROM:+0100
TZOFFSETTO:+0200
TZNAME:CEST
DTSTART:20250330T010000
END:DAYLIGHT
BEGIN:STANDARD
TZOFFSETFROM:+0200
TZOFFSETTO:+0100
TZNAME:CET
DTSTART:20251026T010000
END:STANDARD
BEGIN:DAYLIGHT
TZOFFSETFROM:+0100
TZOFFSETTO:+0200
TZNAME:CEST
DTSTART:20260329T010000
END:DAYLIGHT
BEGIN:STANDARD
TZOFFSETFROM:+0200
TZOFFSETTO:+0100
TZNAME:CET
DTSTART:20261025T010000
END:STANDARD
BEGIN:DAYLIGHT
TZOFFSETFROM:+0100
TZOFFSETTO:+0200
TZNAME:CEST
DTSTART:20270328T010000
END:DAYLIGHT
BEGIN:STANDARD
TZOFFSETFROM:+0200
TZOFFSETTO:+0100
TZNAME:CET
DTSTART:20271031T010000
END:STANDARD
END:VTIMEZONE
BEGIN:VEVENT
DTSTART;TZID=Europe/Paris:20260603T133000
DTEND;TZID=Europe/Paris:20260603T173000
DTSTAMP:20260425T125859
CREATED:20251225T071828Z
LAST-MODIFIED:20260122T154116Z
UID:8092-1780493400-1780507800@asterae.org
SUMMARY:La faune\, la flore et l’humain\, des êtres vivants doués de sensibilité\, à Arques
DESCRIPTION:Nous partirons à la découverte de l’Espace Naturel Sensible du Pech Cardou et de la forêt domaniale du Rialsesse. Nous y observerons la biodiversité faunistique et floristique\, nous vous présenterons leurs différents niveaux de sensibilité. Ensuite nous échangerons sur les solutions individuelles et collectives pour la préserver. Enfin Céline Monnet de Cristaluni\, thérapeute\, nous guidera pour faire le lien avec la sensibilité humaine. \nMerci au Département de l’Aude pour son soutien financier et à Gée Aude pour la mise en œuvre du programme « ENSemble\, découvrons les espaces naturels sensibles ». \nRÉSERVATION par sms au 06.45.92.38.10 !
URL:https://asterae.org/evenement/faune-flore-humain-etres-vivants-doues-sensibilite-arques/
LOCATION:Parcours d’orientation du lac d’Arques\, Arques\, 11190\, France
CATEGORIES:Animation
ATTACH;FMTTYPE=image/jpeg:https://asterae.org/wp-content/uploads/LacArquesPaysage.jpg
END:VEVENT
END:VCALENDAR