BEGIN:VCALENDAR
VERSION:2.0
PRODID:-//Asteraé - ECPv6.15.13//NONSGML v1.0//EN
CALSCALE:GREGORIAN
METHOD:PUBLISH
X-WR-CALNAME:Asteraé
X-ORIGINAL-URL:https://asterae.org
X-WR-CALDESC:Évènements pour Asteraé
REFRESH-INTERVAL;VALUE=DURATION:PT1H
X-Robots-Tag:noindex
X-PUBLISHED-TTL:PT1H
BEGIN:VTIMEZONE
TZID:Europe/Paris
BEGIN:DAYLIGHT
TZOFFSETFROM:+0100
TZOFFSETTO:+0200
TZNAME:CEST
DTSTART:20230326T010000
END:DAYLIGHT
BEGIN:STANDARD
TZOFFSETFROM:+0200
TZOFFSETTO:+0100
TZNAME:CET
DTSTART:20231029T010000
END:STANDARD
BEGIN:DAYLIGHT
TZOFFSETFROM:+0100
TZOFFSETTO:+0200
TZNAME:CEST
DTSTART:20240331T010000
END:DAYLIGHT
BEGIN:STANDARD
TZOFFSETFROM:+0200
TZOFFSETTO:+0100
TZNAME:CET
DTSTART:20241027T010000
END:STANDARD
BEGIN:DAYLIGHT
TZOFFSETFROM:+0100
TZOFFSETTO:+0200
TZNAME:CEST
DTSTART:20250330T010000
END:DAYLIGHT
BEGIN:STANDARD
TZOFFSETFROM:+0200
TZOFFSETTO:+0100
TZNAME:CET
DTSTART:20251026T010000
END:STANDARD
END:VTIMEZONE
BEGIN:VEVENT
DTSTART;TZID=Europe/Paris:20240505T101500
DTEND;TZID=Europe/Paris:20240505T120000
DTSTAMP:20260422T080144
CREATED:20240403T162013Z
LAST-MODIFIED:20240403T164507Z
UID:6659-1714904100-1714910400@asterae.org
SUMMARY:Conférence et atelier sur l'aménagement de son jardin lors de la Fête des Plants d'Atout Fruit\, à Chalabre
DESCRIPTION:Je partagerai des conseils pratiques et écologiques pour aménager son jardin lors d’une conférence de 10h15 à 11h.\nElle sera suivie d’un atelier pour les personnes souhaitant commencer à réfléchir\, avec mon accompagnement\, à l’aménagement de leur propre jardin.
URL:https://asterae.org/evenement/fete-plants-chalabre-2024/
LOCATION:Atout Fruit\, La gare\, Z.A. de la gare\, La Plaine St Pierre\, Chalabre\, 11230\, France
CATEGORIES:Atelier,Conférence
ATTACH;FMTTYPE=image/webp:https://asterae.org/wp-content/uploads/En-mai-fete-des-plants-2024.webp
END:VEVENT
END:VCALENDAR