BEGIN:VCALENDAR
VERSION:2.0
PRODID:-//Asteraé - ECPv6.15.13//NONSGML v1.0//EN
CALSCALE:GREGORIAN
METHOD:PUBLISH
X-ORIGINAL-URL:https://asterae.org
X-WR-CALDESC:Évènements pour Asteraé
REFRESH-INTERVAL;VALUE=DURATION:PT1H
X-Robots-Tag:noindex
X-PUBLISHED-TTL:PT1H
BEGIN:VTIMEZONE
TZID:Europe/Paris
BEGIN:DAYLIGHT
TZOFFSETFROM:+0100
TZOFFSETTO:+0200
TZNAME:CEST
DTSTART:20230326T010000
END:DAYLIGHT
BEGIN:STANDARD
TZOFFSETFROM:+0200
TZOFFSETTO:+0100
TZNAME:CET
DTSTART:20231029T010000
END:STANDARD
BEGIN:DAYLIGHT
TZOFFSETFROM:+0100
TZOFFSETTO:+0200
TZNAME:CEST
DTSTART:20240331T010000
END:DAYLIGHT
BEGIN:STANDARD
TZOFFSETFROM:+0200
TZOFFSETTO:+0100
TZNAME:CET
DTSTART:20241027T010000
END:STANDARD
BEGIN:DAYLIGHT
TZOFFSETFROM:+0100
TZOFFSETTO:+0200
TZNAME:CEST
DTSTART:20250330T010000
END:DAYLIGHT
BEGIN:STANDARD
TZOFFSETFROM:+0200
TZOFFSETTO:+0100
TZNAME:CET
DTSTART:20251026T010000
END:STANDARD
END:VTIMEZONE
BEGIN:VEVENT
DTSTART;TZID=Europe/Paris:20240618T183000
DTEND;TZID=Europe/Paris:20240618T200000
DTSTAMP:20260422T061014
CREATED:20240328T134706Z
LAST-MODIFIED:20240502T143946Z
UID:6655-1718735400-1718740800@asterae.org
SUMMARY:Conférence sur l'impact environnemental du numérique\, à Toulouges
DESCRIPTION:La digitalisation de notre économie n’est pas sans conséquence sur notre environnement. Les impacts environnementaux du numérique sont bien réels : le changement climatique dû aux émissions de Gaz à Effet de Serre\, l’atteinte de la biodiversité suite à la pollution de l’air\, du sol et de l’eau\, ainsi que l’épuisement des ressources naturelles (minerais\, pétrole\, eau\, énergie\, …) nécessaires à la fabrication et à l’utilisation des équipements. \nJe partagerai les actions à mettre en œuvre pour réduire son impact environnemental\, au travers des items suivants : \n1) Stockage de données \n2) Navigation sur le net \n3) Messagerie électronique \n4) Équipements numériques
URL:https://asterae.org/evenement/conference-impact-environnemental-numerique-toulouges/
LOCATION:Le CRIEE\, Toulouges
CATEGORIES:Conférence
ATTACH;FMTTYPE=image/jpeg:https://asterae.org/wp-content/uploads/blockchain-7049552_1280.jpg
END:VEVENT
END:VCALENDAR