BEGIN:VCALENDAR
VERSION:2.0
PRODID:-//Asteraé - ECPv6.15.13//NONSGML v1.0//EN
CALSCALE:GREGORIAN
METHOD:PUBLISH
X-ORIGINAL-URL:https://asterae.org
X-WR-CALDESC:Évènements pour Asteraé
REFRESH-INTERVAL;VALUE=DURATION:PT1H
X-Robots-Tag:noindex
X-PUBLISHED-TTL:PT1H
BEGIN:VTIMEZONE
TZID:Europe/Paris
BEGIN:DAYLIGHT
TZOFFSETFROM:+0100
TZOFFSETTO:+0200
TZNAME:CEST
DTSTART:20200329T010000
END:DAYLIGHT
BEGIN:STANDARD
TZOFFSETFROM:+0200
TZOFFSETTO:+0100
TZNAME:CET
DTSTART:20201025T010000
END:STANDARD
BEGIN:DAYLIGHT
TZOFFSETFROM:+0100
TZOFFSETTO:+0200
TZNAME:CEST
DTSTART:20210328T010000
END:DAYLIGHT
BEGIN:STANDARD
TZOFFSETFROM:+0200
TZOFFSETTO:+0100
TZNAME:CET
DTSTART:20211031T010000
END:STANDARD
BEGIN:DAYLIGHT
TZOFFSETFROM:+0100
TZOFFSETTO:+0200
TZNAME:CEST
DTSTART:20220327T010000
END:DAYLIGHT
BEGIN:STANDARD
TZOFFSETFROM:+0200
TZOFFSETTO:+0100
TZNAME:CET
DTSTART:20221030T010000
END:STANDARD
END:VTIMEZONE
BEGIN:VEVENT
DTSTART;TZID=Europe/Paris:20210724T130000
DTEND;TZID=Europe/Paris:20210724T140000
DTSTAMP:20260424T212124
CREATED:20210615T153653Z
LAST-MODIFIED:20210616T192611Z
UID:4307-1627131600-1627135200@asterae.org
SUMMARY:Festival Bien Vivre 66\, à Saint-Jean-Pla-de-Corts
DESCRIPTION:Conférence de sensibilisation environnementale : « L’impact environnemental de nos pratiques numériques\, c’est du virtuel ? » \nLes impacts environnementaux du numérique sont bien réels : le changement climatique dû aux émissions de Gaz à Effet de Serre\, l’atteinte de la biodiversité suite à la pollution de l’air\, du sol et de l’eau\, ainsi que l’épuisement des ressources naturelles (minerais\, pétrole\, eau\, énergie\, …) nécessaires à la fabrication et à l’utilisation des équipements. \nJe vous partagerai les actions à mettre en oeuvre pour réduire votre impact environnemental\, au travers des thématiques suivantes : \n1)     Stockage de données \n2)     Navigation sur le net \n3)     Messagerie électronique \n4)     Équipements numériques \nPlus d’informations sur le festival ici .
URL:https://asterae.org/evenement/festival-bien-vivre-66/
LOCATION:Lac de Saint-Jean-Pla-de-Corts\, Saint-Jean-Pla-de-Corts\, France
CATEGORIES:Conférence
ATTACH;FMTTYPE=image/png:https://asterae.org/wp-content/uploads/173240707_1562433753946050_3129922780333557009_n.png
END:VEVENT
END:VCALENDAR